Package: SpaceTrooper Version: 1.1.0 Command: /Library/Frameworks/R.framework/Resources/bin/R CMD build --keep-empty-dirs --no-resave-data SpaceTrooper StartedAt: 2025-11-16 17:44:31 -0500 (Sun, 16 Nov 2025) EndedAt: 2025-11-16 17:45:17 -0500 (Sun, 16 Nov 2025) EllapsedTime: 46.5 seconds RetCode: 0 Status: OK PackageFile: SpaceTrooper_1.1.0.tar.gz PackageFileSize: 6.249 MiB