Package: SpaceTrooper Version: 1.1.0 Command: rm -rf SpaceTrooper.buildbin-libdir && mkdir SpaceTrooper.buildbin-libdir && /Users/biocbuild/BBS/utils/build-universal.sh SpaceTrooper_1.1.0.tar.gz /Library/Frameworks/R.framework/Resources/bin/R SpaceTrooper.buildbin-libdir StartedAt: 2025-11-16 23:54:04 -0500 (Sun, 16 Nov 2025) EndedAt: 2025-11-16 23:54:25 -0500 (Sun, 16 Nov 2025) EllapsedTime: 20.5 seconds RetCode: 0 Status: OK PackageFile: SpaceTrooper_1.1.0.tgz PackageFileSize: 6.45 MiB