Package: SpaNorm Version: 1.5.0 Command: /home/biocbuild/bbs-3.23-bioc/R/bin/R CMD INSTALL SpaNorm StartedAt: 2025-11-14 15:54:30 -0500 (Fri, 14 Nov 2025) EndedAt: 2025-11-14 15:54:33 -0500 (Fri, 14 Nov 2025) EllapsedTime: 3.1 seconds RetCode: 0 Status: OK