Package: SpaNorm Version: 1.5.0 Command: /home/biocbuild/bbs-3.23-bioc/R/bin/R CMD build --keep-empty-dirs --no-resave-data SpaNorm StartedAt: 2025-11-14 20:11:19 -0500 (Fri, 14 Nov 2025) EndedAt: 2025-11-14 20:17:25 -0500 (Fri, 14 Nov 2025) EllapsedTime: 366.3 seconds RetCode: 0 Status: OK PackageFile: SpaNorm_1.5.0.tar.gz PackageFileSize: 8.105 MiB