Package: SpaNorm Version: 1.5.0 Command: /Library/Frameworks/R.framework/Resources/bin/R CMD INSTALL SpaNorm StartedAt: 2025-11-14 15:29:08 -0500 (Fri, 14 Nov 2025) EndedAt: 2025-11-14 15:29:10 -0500 (Fri, 14 Nov 2025) EllapsedTime: 2.1 seconds RetCode: 0 Status: OK