Package: SpaNorm Version: 1.5.0 Command: /Library/Frameworks/R.framework/Resources/bin/R CMD build --keep-empty-dirs --no-resave-data SpaNorm StartedAt: 2025-11-14 17:44:00 -0500 (Fri, 14 Nov 2025) EndedAt: 2025-11-14 17:45:40 -0500 (Fri, 14 Nov 2025) EllapsedTime: 100.1 seconds RetCode: 0 Status: OK PackageFile: SpaNorm_1.5.0.tar.gz PackageFileSize: 8.13 MiB