Package: SpaNorm Version: 1.5.0 Maintainer: Dharmesh D. Bhuva MaintainerEmail: dharmesh.bhuva at adelaide.edu.au git_url: https://git.bioconductor.org/packages/SpaNorm git_branch: devel git_last_commit: 2845190 git_last_commit_date: 2025-10-29 11:32:47 -0500 (Wed, 29 Oct 2025)