Package: SomaticSignatures Version: 2.47.0 Command: /home/biocbuild/bbs-3.23-bioc/R/bin/R CMD INSTALL SomaticSignatures StartedAt: 2025-11-11 15:50:37 -0500 (Tue, 11 Nov 2025) EndedAt: 2025-11-11 15:51:32 -0500 (Tue, 11 Nov 2025) EllapsedTime: 55.3 seconds RetCode: 0 Status: OK