Package: SomaticSignatures Version: 2.47.0 Command: /Library/Frameworks/R.framework/Resources/bin/R CMD build --keep-empty-dirs --no-resave-data SomaticSignatures StartedAt: 2025-11-13 17:46:06 -0500 (Thu, 13 Nov 2025) EndedAt: 2025-11-13 17:47:28 -0500 (Thu, 13 Nov 2025) EllapsedTime: 82.9 seconds RetCode: 0 Status: OK PackageFile: SomaticSignatures_2.47.0.tar.gz PackageFileSize: 2.818 MiB