Package: SomaticSignatures Version: 2.47.0 Command: rm -rf SomaticSignatures.buildbin-libdir && mkdir SomaticSignatures.buildbin-libdir && /Users/biocbuild/BBS/utils/build-universal.sh SomaticSignatures_2.47.0.tar.gz /Library/Frameworks/R.framework/Resources/bin/R SomaticSignatures.buildbin-libdir StartedAt: 2025-11-13 23:57:36 -0500 (Thu, 13 Nov 2025) EndedAt: 2025-11-13 23:58:03 -0500 (Thu, 13 Nov 2025) EllapsedTime: 27.6 seconds RetCode: 0 Status: OK PackageFile: SomaticSignatures_2.47.0.tgz PackageFileSize: 3.509 MiB