Package: SomaticSignatures Version: 2.47.0 Maintainer: Julian Gehring MaintainerEmail: jg-bioc at gmx.com git_url: https://git.bioconductor.org/packages/SomaticSignatures git_branch: devel git_last_commit: 97b6de8 git_last_commit_date: 2025-10-29 10:17:57 -0500 (Wed, 29 Oct 2025)