Package: SmartPhos Version: 1.1.0 Command: /Library/Frameworks/R.framework/Resources/bin/R CMD INSTALL SmartPhos StartedAt: 2025-11-13 15:20:58 -0500 (Thu, 13 Nov 2025) EndedAt: 2025-11-13 15:21:12 -0500 (Thu, 13 Nov 2025) EllapsedTime: 13.5 seconds RetCode: 0 Status: OK