Package: SmartPhos Version: 1.1.0 Command: /Library/Frameworks/R.framework/Resources/bin/R CMD build --keep-empty-dirs --no-resave-data SmartPhos StartedAt: 2025-11-13 17:45:04 -0500 (Thu, 13 Nov 2025) EndedAt: 2025-11-13 17:45:50 -0500 (Thu, 13 Nov 2025) EllapsedTime: 46.5 seconds RetCode: 0 Status: OK PackageFile: SmartPhos_1.1.0.tar.gz PackageFileSize: 20.18 MiB