Package: SmartPhos Version: 1.1.0 Command: rm -rf SmartPhos.buildbin-libdir && mkdir SmartPhos.buildbin-libdir && /Users/biocbuild/BBS/utils/build-universal.sh SmartPhos_1.1.0.tar.gz /Library/Frameworks/R.framework/Resources/bin/R SmartPhos.buildbin-libdir StartedAt: 2025-11-13 23:57:27 -0500 (Thu, 13 Nov 2025) EndedAt: 2025-11-13 23:57:46 -0500 (Thu, 13 Nov 2025) EllapsedTime: 18.4 seconds RetCode: 0 Status: OK PackageFile: SmartPhos_1.1.0.tgz PackageFileSize: 13.33 MiB