Package: SmartPhos Version: 1.1.0 Maintainer: Shubham Agrawal MaintainerEmail: shubhamagrawal2706 at gmail.com git_url: https://git.bioconductor.org/packages/SmartPhos git_branch: devel git_last_commit: 9abaf07 git_last_commit_date: 2025-10-29 11:38:54 -0500 (Wed, 29 Oct 2025)