Package: SingleMoleculeFootprinting Version: 2.5.0 Command: /Library/Frameworks/R.framework/Resources/bin/R CMD INSTALL SingleMoleculeFootprinting StartedAt: 2025-11-14 15:30:24 -0500 (Fri, 14 Nov 2025) EndedAt: 2025-11-14 15:30:31 -0500 (Fri, 14 Nov 2025) EllapsedTime: 7.2 seconds RetCode: 1 Status: ERROR