Package: SingleCellSignalR Version: 2.1.1 Command: /home/biocbuild/bbs-3.23-bioc/R/bin/R CMD INSTALL SingleCellSignalR StartedAt: 2025-11-13 15:59:49 -0500 (Thu, 13 Nov 2025) EndedAt: 2025-11-13 16:00:39 -0500 (Thu, 13 Nov 2025) EllapsedTime: 49.6 seconds RetCode: 0 Status: OK