Package: SingleCellSignalR Version: 2.1.1 Command: /home/biocbuild/bbs-3.23-bioc/R/bin/R CMD build --keep-empty-dirs --no-resave-data SingleCellSignalR StartedAt: 2025-11-13 20:06:54 -0500 (Thu, 13 Nov 2025) EndedAt: 2025-11-13 20:08:02 -0500 (Thu, 13 Nov 2025) EllapsedTime: 68.1 seconds RetCode: 0 Status: OK PackageFile: SingleCellSignalR_2.1.1.tar.gz PackageFileSize: 173.9 KiB