Package: SingleCellSignalR Version: 2.1.1 Command: /Library/Frameworks/R.framework/Resources/bin/R CMD INSTALL SingleCellSignalR StartedAt: 2025-11-13 15:34:12 -0500 (Thu, 13 Nov 2025) EndedAt: 2025-11-13 15:34:34 -0500 (Thu, 13 Nov 2025) EllapsedTime: 21.5 seconds RetCode: 0 Status: OK