Package: SingleCellSignalR Version: 2.1.1 Command: /Library/Frameworks/R.framework/Resources/bin/R CMD build --keep-empty-dirs --no-resave-data SingleCellSignalR StartedAt: 2025-11-13 17:44:12 -0500 (Thu, 13 Nov 2025) EndedAt: 2025-11-13 17:44:45 -0500 (Thu, 13 Nov 2025) EllapsedTime: 32.4 seconds RetCode: 0 Status: OK PackageFile: SingleCellSignalR_2.1.1.tar.gz PackageFileSize: 173.9 KiB