Package: SingleCellSignalR Version: 2.1.1 Command: rm -rf SingleCellSignalR.buildbin-libdir && mkdir SingleCellSignalR.buildbin-libdir && /Users/biocbuild/BBS/utils/build-universal.sh SingleCellSignalR_2.1.1.tar.gz /Library/Frameworks/R.framework/Resources/bin/R SingleCellSignalR.buildbin-libdir StartedAt: 2025-11-13 23:57:06 -0500 (Thu, 13 Nov 2025) EndedAt: 2025-11-13 23:57:31 -0500 (Thu, 13 Nov 2025) EllapsedTime: 25.5 seconds RetCode: 0 Status: OK PackageFile: SingleCellSignalR_2.1.1.tgz PackageFileSize: 484.8 KiB