Package: SingleCellSignalR Version: 2.1.1 Maintainer: Jean-Philippe Villemin MaintainerEmail: jpvillemin at gmail.com git_url: https://git.bioconductor.org/packages/SingleCellSignalR git_branch: devel git_last_commit: 926b6b5 git_last_commit_date: 2025-11-08 12:13:31 -0500 (Sat, 08 Nov 2025)