Package: SingleCellExperiment Version: 1.33.0 Command: /home/biocbuild/bbs-3.23-bioc/R/bin/R CMD INSTALL SingleCellExperiment StartedAt: 2025-11-14 15:19:10 -0500 (Fri, 14 Nov 2025) EndedAt: 2025-11-14 15:19:35 -0500 (Fri, 14 Nov 2025) EllapsedTime: 24.6 seconds RetCode: 0 Status: OK