Package: SingleCellExperiment Version: 1.33.0 Command: /Library/Frameworks/R.framework/Resources/bin/R CMD build --keep-empty-dirs --no-resave-data SingleCellExperiment StartedAt: 2025-11-14 17:41:15 -0500 (Fri, 14 Nov 2025) EndedAt: 2025-11-14 17:41:43 -0500 (Fri, 14 Nov 2025) EllapsedTime: 27.3 seconds RetCode: 0 Status: OK PackageFile: SingleCellExperiment_1.33.0.tar.gz PackageFileSize: 962.2 KiB