Package: SingleCellExperiment Version: 1.33.0 Command: rm -rf SingleCellExperiment.buildbin-libdir && mkdir SingleCellExperiment.buildbin-libdir && /Users/biocbuild/BBS/utils/build-universal.sh SingleCellExperiment_1.33.0.tar.gz /Library/Frameworks/R.framework/Resources/bin/R SingleCellExperiment.buildbin-libdir StartedAt: 2025-11-14 23:52:22 -0500 (Fri, 14 Nov 2025) EndedAt: 2025-11-14 23:52:35 -0500 (Fri, 14 Nov 2025) EllapsedTime: 13.3 seconds RetCode: 0 Status: OK PackageFile: SingleCellExperiment_1.33.0.tgz PackageFileSize: 1.917 MiB