Package: SingleCellAlleleExperiment Version: 1.7.0 Command: /Library/Frameworks/R.framework/Resources/bin/R CMD build --keep-empty-dirs --no-resave-data SingleCellAlleleExperiment StartedAt: 2025-11-13 17:44:08 -0500 (Thu, 13 Nov 2025) EndedAt: 2025-11-13 17:46:54 -0500 (Thu, 13 Nov 2025) EllapsedTime: 165.9 seconds RetCode: 0 Status: OK PackageFile: SingleCellAlleleExperiment_1.7.0.tar.gz PackageFileSize: 2.606 MiB