Package: SingleCellAlleleExperiment Version: 1.7.0 Maintainer: Jonas Schuck MaintainerEmail: jschuckdev at gmail.com git_url: https://git.bioconductor.org/packages/SingleCellAlleleExperiment git_branch: devel git_last_commit: 51ef84b git_last_commit_date: 2025-10-29 11:30:07 -0500 (Wed, 29 Oct 2025)