Package: SimFFPE Version: 1.23.0 Command: /home/biocbuild/bbs-3.23-bioc/R/bin/R CMD INSTALL SimFFPE StartedAt: 2025-11-11 15:19:55 -0500 (Tue, 11 Nov 2025) EndedAt: 2025-11-11 15:20:08 -0500 (Tue, 11 Nov 2025) EllapsedTime: 13.2 seconds RetCode: 0 Status: OK