Package: SimFFPE Version: 1.23.0 Command: /home/biocbuild/bbs-3.23-bioc/R/bin/R CMD build --keep-empty-dirs --no-resave-data SimFFPE StartedAt: 2025-11-14 20:05:29 -0500 (Fri, 14 Nov 2025) EndedAt: 2025-11-14 20:07:03 -0500 (Fri, 14 Nov 2025) EllapsedTime: 94.1 seconds RetCode: 0 Status: OK PackageFile: SimFFPE_1.23.0.tar.gz PackageFileSize: 749.7 KiB