Package: SimFFPE Version: 1.23.0 Command: /Library/Frameworks/R.framework/Resources/bin/R CMD INSTALL SimFFPE StartedAt: 2025-11-13 15:10:42 -0500 (Thu, 13 Nov 2025) EndedAt: 2025-11-13 15:10:48 -0500 (Thu, 13 Nov 2025) EllapsedTime: 5.6 seconds RetCode: 0 Status: OK