Package: SimFFPE Version: 1.23.0 Command: /Library/Frameworks/R.framework/Resources/bin/R CMD build --keep-empty-dirs --no-resave-data SimFFPE StartedAt: 2025-11-13 17:43:39 -0500 (Thu, 13 Nov 2025) EndedAt: 2025-11-13 17:44:12 -0500 (Thu, 13 Nov 2025) EllapsedTime: 33.4 seconds RetCode: 0 Status: OK PackageFile: SimFFPE_1.23.0.tar.gz PackageFileSize: 749.1 KiB