Package: SimFFPE Version: 1.23.0 Command: rm -rf SimFFPE.buildbin-libdir && mkdir SimFFPE.buildbin-libdir && /Users/biocbuild/BBS/utils/build-universal.sh SimFFPE_1.23.0.tar.gz /Library/Frameworks/R.framework/Resources/bin/R SimFFPE.buildbin-libdir StartedAt: 2025-11-13 23:57:01 -0500 (Thu, 13 Nov 2025) EndedAt: 2025-11-13 23:57:08 -0500 (Thu, 13 Nov 2025) EllapsedTime: 7.2 seconds RetCode: 0 Status: OK PackageFile: SimFFPE_1.23.0.tgz PackageFileSize: 807.3 KiB