Package: SimFFPE Version: 1.23.0 Maintainer: Lanying Wei MaintainerEmail: lanying.wei at uni-muenster.de git_url: https://git.bioconductor.org/packages/SimFFPE git_branch: devel git_last_commit: daeddda git_last_commit_date: 2025-10-29 10:56:29 -0500 (Wed, 29 Oct 2025)