Package: SimBu Version: 1.13.0 Command: /home/biocbuild/bbs-3.23-bioc/R/bin/R CMD INSTALL SimBu StartedAt: 2025-11-13 15:17:15 -0500 (Thu, 13 Nov 2025) EndedAt: 2025-11-13 15:17:21 -0500 (Thu, 13 Nov 2025) EllapsedTime: 5.2 seconds RetCode: 0 Status: OK