Package: SigsPack Version: 1.25.0 Command: /Library/Frameworks/R.framework/Resources/bin/R CMD INSTALL SigsPack StartedAt: 2025-11-25 15:22:21 -0500 (Tue, 25 Nov 2025) EndedAt: 2025-11-25 15:22:22 -0500 (Tue, 25 Nov 2025) EllapsedTime: 1.1 seconds RetCode: 0 Status: OK