Package: SigsPack Version: 1.25.0 Command: /Library/Frameworks/R.framework/Resources/bin/R CMD build --keep-empty-dirs --no-resave-data SigsPack StartedAt: 2025-11-25 17:40:56 -0500 (Tue, 25 Nov 2025) EndedAt: 2025-11-25 17:41:43 -0500 (Tue, 25 Nov 2025) EllapsedTime: 46.5 seconds RetCode: 0 Status: OK PackageFile: SigsPack_1.25.0.tar.gz PackageFileSize: 522.7 KiB