Package: SigsPack Version: 1.25.0 Command: rm -rf SigsPack.buildbin-libdir && mkdir SigsPack.buildbin-libdir && /Users/biocbuild/BBS/utils/build-universal.sh SigsPack_1.25.0.tar.gz /Library/Frameworks/R.framework/Resources/bin/R SigsPack.buildbin-libdir StartedAt: 2025-11-26 23:53:26 -0500 (Wed, 26 Nov 2025) EndedAt: 2025-11-26 23:53:28 -0500 (Wed, 26 Nov 2025) EllapsedTime: 2.0 seconds RetCode: 0 Status: OK PackageFile: SigsPack_1.25.0.tgz PackageFileSize: 542.4 KiB