Package: SigCheck Version: 2.43.0 Command: /home/biocbuild/bbs-3.23-bioc/R/bin/R CMD INSTALL SigCheck StartedAt: 2025-11-14 15:29:43 -0500 (Fri, 14 Nov 2025) EndedAt: 2025-11-14 15:30:12 -0500 (Fri, 14 Nov 2025) EllapsedTime: 29.0 seconds RetCode: 0 Status: OK