Package: SigCheck Version: 2.43.0 Command: /home/biocbuild/bbs-3.23-bioc/R/bin/R CMD build --keep-empty-dirs --no-resave-data SigCheck StartedAt: 2025-11-14 20:04:12 -0500 (Fri, 14 Nov 2025) EndedAt: 2025-11-14 20:05:11 -0500 (Fri, 14 Nov 2025) EllapsedTime: 59.1 seconds RetCode: 0 Status: OK PackageFile: SigCheck_2.43.0.tar.gz PackageFileSize: 369.4 KiB