Package: SigCheck Version: 2.43.0 Command: /Library/Frameworks/R.framework/Resources/bin/R CMD INSTALL SigCheck StartedAt: 2025-11-14 15:13:37 -0500 (Fri, 14 Nov 2025) EndedAt: 2025-11-14 15:13:49 -0500 (Fri, 14 Nov 2025) EllapsedTime: 11.8 seconds RetCode: 0 Status: OK