Package: SigCheck Version: 2.43.0 Command: /Library/Frameworks/R.framework/Resources/bin/R CMD build --keep-empty-dirs --no-resave-data SigCheck StartedAt: 2025-11-14 17:39:55 -0500 (Fri, 14 Nov 2025) EndedAt: 2025-11-14 17:40:22 -0500 (Fri, 14 Nov 2025) EllapsedTime: 26.3 seconds RetCode: 0 Status: OK PackageFile: SigCheck_2.43.0.tar.gz PackageFileSize: 369.2 KiB