Package: SigCheck Version: 2.43.0 Command: rm -rf SigCheck.buildbin-libdir && mkdir SigCheck.buildbin-libdir && /Users/biocbuild/BBS/utils/build-universal.sh SigCheck_2.43.0.tar.gz /Library/Frameworks/R.framework/Resources/bin/R SigCheck.buildbin-libdir StartedAt: 2025-11-14 23:52:02 -0500 (Fri, 14 Nov 2025) EndedAt: 2025-11-14 23:52:16 -0500 (Fri, 14 Nov 2025) EllapsedTime: 14.3 seconds RetCode: 0 Status: OK PackageFile: SigCheck_2.43.0.tgz PackageFileSize: 730.4 KiB