Package: SigCheck Version: 2.43.0 Maintainer: Rory Stark MaintainerEmail: bioconductor at starkhome.com git_url: https://git.bioconductor.org/packages/SigCheck git_branch: devel git_last_commit: 57c2e1c git_last_commit_date: 2025-10-29 10:22:19 -0500 (Wed, 29 Oct 2025)