Package: SiPSiC Version: 1.11.0 Command: /home/biocbuild/bbs-3.23-bioc/R/bin/R CMD INSTALL SiPSiC StartedAt: 2025-11-23 15:21:55 -0500 (Sun, 23 Nov 2025) EndedAt: 2025-11-23 15:22:17 -0500 (Sun, 23 Nov 2025) EllapsedTime: 21.8 seconds RetCode: 0 Status: OK