Package: SiPSiC Version: 1.11.0 Command: /home/biocbuild/bbs-3.23-bioc/R/bin/R CMD build --keep-empty-dirs --no-resave-data SiPSiC StartedAt: 2025-11-23 20:06:44 -0500 (Sun, 23 Nov 2025) EndedAt: 2025-11-23 20:07:15 -0500 (Sun, 23 Nov 2025) EllapsedTime: 31.0 seconds RetCode: 0 Status: OK PackageFile: SiPSiC_1.11.0.tar.gz PackageFileSize: 237 KiB