Package: SiPSiC Version: 1.11.0 Command: /Library/Frameworks/R.framework/Resources/bin/R CMD build --keep-empty-dirs --no-resave-data SiPSiC StartedAt: 2025-11-13 17:44:31 -0500 (Thu, 13 Nov 2025) EndedAt: 2025-11-13 17:44:47 -0500 (Thu, 13 Nov 2025) EllapsedTime: 15.2 seconds RetCode: 0 Status: OK PackageFile: SiPSiC_1.11.0.tar.gz PackageFileSize: 236.9 KiB