Package: SiPSiC Version: 1.11.0 Command: rm -rf SiPSiC.buildbin-libdir && mkdir SiPSiC.buildbin-libdir && /Users/biocbuild/BBS/utils/build-universal.sh SiPSiC_1.11.0.tar.gz /Library/Frameworks/R.framework/Resources/bin/R SiPSiC.buildbin-libdir StartedAt: 2025-11-13 23:57:13 -0500 (Thu, 13 Nov 2025) EndedAt: 2025-11-13 23:57:24 -0500 (Thu, 13 Nov 2025) EllapsedTime: 11.2 seconds RetCode: 0 Status: OK PackageFile: SiPSiC_1.11.0.tgz PackageFileSize: 247.5 KiB