Package: SeqVarTools Version: 1.49.0 Command: /Library/Frameworks/R.framework/Resources/bin/R CMD INSTALL SeqVarTools StartedAt: 2025-11-13 15:14:50 -0500 (Thu, 13 Nov 2025) EndedAt: 2025-11-13 15:14:58 -0500 (Thu, 13 Nov 2025) EllapsedTime: 8.6 seconds RetCode: 0 Status: OK