Package: SeqSQC Version: 1.33.0 Command: /home/biocbuild/bbs-3.23-bioc/R/bin/R CMD build --keep-empty-dirs --no-resave-data SeqSQC StartedAt: 2025-11-13 20:02:11 -0500 (Thu, 13 Nov 2025) EndedAt: 2025-11-13 20:03:04 -0500 (Thu, 13 Nov 2025) EllapsedTime: 53.1 seconds RetCode: 0 Status: OK PackageFile: SeqSQC_1.33.0.tar.gz PackageFileSize: 4.49 MiB