Package: SeqSQC Version: 1.33.0 Command: /Library/Frameworks/R.framework/Resources/bin/R CMD build --keep-empty-dirs --no-resave-data SeqSQC StartedAt: 2025-11-13 17:41:58 -0500 (Thu, 13 Nov 2025) EndedAt: 2025-11-13 17:42:23 -0500 (Thu, 13 Nov 2025) EllapsedTime: 25.3 seconds RetCode: 0 Status: OK PackageFile: SeqSQC_1.33.0.tar.gz PackageFileSize: 4.529 MiB